BEGIN:VCALENDAR
VERSION:2.0
PRODID:-//Bürger-Energie Isental - ECPv6.15.20//NONSGML v1.0//EN
CALSCALE:GREGORIAN
METHOD:PUBLISH
X-ORIGINAL-URL:https://isental-energie.de
X-WR-CALDESC:Veranstaltungen für Bürger-Energie Isental
REFRESH-INTERVAL;VALUE=DURATION:PT1H
X-Robots-Tag:noindex
X-PUBLISHED-TTL:PT1H
BEGIN:VTIMEZONE
TZID:Europe/Berlin
BEGIN:DAYLIGHT
TZOFFSETFROM:+0100
TZOFFSETTO:+0200
TZNAME:CEST
DTSTART:20240331T010000
END:DAYLIGHT
BEGIN:STANDARD
TZOFFSETFROM:+0200
TZOFFSETTO:+0100
TZNAME:CET
DTSTART:20241027T010000
END:STANDARD
BEGIN:DAYLIGHT
TZOFFSETFROM:+0100
TZOFFSETTO:+0200
TZNAME:CEST
DTSTART:20250330T010000
END:DAYLIGHT
BEGIN:STANDARD
TZOFFSETFROM:+0200
TZOFFSETTO:+0100
TZNAME:CET
DTSTART:20251026T010000
END:STANDARD
BEGIN:DAYLIGHT
TZOFFSETFROM:+0100
TZOFFSETTO:+0200
TZNAME:CEST
DTSTART:20260329T010000
END:DAYLIGHT
BEGIN:STANDARD
TZOFFSETFROM:+0200
TZOFFSETTO:+0100
TZNAME:CET
DTSTART:20261025T010000
END:STANDARD
BEGIN:DAYLIGHT
TZOFFSETFROM:+0100
TZOFFSETTO:+0200
TZNAME:CEST
DTSTART:20270328T010000
END:DAYLIGHT
BEGIN:STANDARD
TZOFFSETFROM:+0200
TZOFFSETTO:+0100
TZNAME:CET
DTSTART:20271031T010000
END:STANDARD
END:VTIMEZONE
BEGIN:VEVENT
DTSTART;TZID=Europe/Berlin:20260410T193000
DTEND;TZID=Europe/Berlin:20260410T210000
DTSTAMP:20260422T004300
CREATED:20260320T173205Z
LAST-MODIFIED:20260320T173312Z
UID:1951-1775849400-1775854800@isental-energie.de
SUMMARY:„Red ma drüber" im April
DESCRIPTION:Bürgernah im Gespräch. \nIn unserem Format „red ma drüber“ stellt sich der Vorstand der Bürgerenergie Isental e.V. einmal im Monat den Fragen rund um Sonnenenergie\, Windkraft\, E-Mobilität und allen weiteren Themen zu den Erneuerbaren. \nEin Angebot für alle\, uns ihre Ideen\, Themen und Anregungen\, aber auch die Sorgen\, Ängste und Bedenken mitzuteilen und sachlich zu diskutieren. \nWir freuen uns auf Euch!
URL:https://isental-energie.de/event/red-ma-drueber-im-april/
LOCATION:Gasthof Klement\, Münchner Straße 3\, Isen\, 84424
CATEGORIES:red ma drüber
ATTACH;FMTTYPE=image/png:https://isental-energie.de/wp-content/uploads/2026/03/red-ma-drueber.png
END:VEVENT
BEGIN:VEVENT
DTSTART;VALUE=DATE:20260326
DTEND;VALUE=DATE:20260327
DTSTAMP:20260422T004300
CREATED:20251217T183143Z
LAST-MODIFIED:20251217T183601Z
UID:1759-1774483200-1774569599@isental-energie.de
SUMMARY:Girls' Day an der Mittelschule Isen
DESCRIPTION:Mit Schülerinnen der Klassen 7 bis 9 und unterstützt von Ilona Groß\, Franzi Reiner und Elena Weidenhiller\, drei Frauen aus der Technik- und Energiebranche steht der Tag unter dem Motto:  \n„Girl-Power meets Solar-Power“ mit Fokus auf Photovoltaik und Solarenergie.  \n 
URL:https://isental-energie.de/event/girls-day-an-der-mittelschule-isen/
LOCATION:Mittelschule Isen\, Bräuanger 1\, Isen\, 84424\, Germany
CATEGORIES:Bildungsveranstaltung
END:VEVENT
BEGIN:VEVENT
DTSTART;TZID=Europe/Berlin:20260313T193000
DTEND;TZID=Europe/Berlin:20260313T210000
DTSTAMP:20260422T004300
CREATED:20260304T165044Z
LAST-MODIFIED:20260308T101947Z
UID:1906-1773430200-1773435600@isental-energie.de
SUMMARY:Bürgerenergie "red ma drüber"
DESCRIPTION:Bürgernah im Gespräch. \nIn unserem neuen Format „red ma drüber“ stellt sich der Vorstand der Bürgerenergie Isental e.V. einmal im Monat den Fragen rund um Sonnenenergie\, Windkraft\, E-Mobilität und allen weiteren Themen zu den Erneuerbaren. \nEin Angebot für alle\, uns ihre Ideen\, Themen und Anregungen\, aber auch die Sorgen\, Ängste und Bedenken mitzuteilen und sachlich zu diskutieren. \nWir freuen uns auf Euch!
URL:https://isental-energie.de/event/buergerenergie-red-ma-drueber/
LOCATION:Gasthof Menzinger\, Hauptstr. 2\, Lengdorf\, 84435\, Germany
CATEGORIES:red ma drüber
END:VEVENT
BEGIN:VEVENT
DTSTART;TZID=Europe/Berlin:20260220T190000
DTEND;TZID=Europe/Berlin:20260220T213000
DTSTAMP:20260422T004300
CREATED:20260130T155729Z
LAST-MODIFIED:20260130T155729Z
UID:1807-1771614000-1771623000@isental-energie.de
SUMMARY:Treffen zum BiDirektionalem Laden
DESCRIPTION:Die Interessensgruppe zum Bidirektionalem Laden trifft sich zu einem ersten Austausch. \nWir sind offen für Alle\, die sich noch anschließen und einbringen möchten.
URL:https://isental-energie.de/event/treffen-zum-bidirektionalem-laden/
LOCATION:Gasthaus „Zum Bruckwirt“\, Dorfner Straße 8\, Isen\, 84424\, Germany
CATEGORIES:Stammtisch
END:VEVENT
BEGIN:VEVENT
DTSTART;TZID=Europe/Berlin:20260207T123000
DTEND;TZID=Europe/Berlin:20260207T123000
DTSTAMP:20260422T004300
CREATED:20251217T184148Z
LAST-MODIFIED:20251217T184148Z
UID:1768-1770467400-1770467400@isental-energie.de
SUMMARY:Exkursion zum Windpark Kammerberg
DESCRIPTION:Bereits zum dritten Mal bieten wir eine Fahrt an\, um Windräder in Bayern zu besichtigen. Die Erfahrung der ersten beiden Fahrten hat gezeigt\, dass dadurch viele Fragen beantwortet\, Bedenken oder Ängste ausgeräumt und ganz grundsätzlich viele Informationen vermittelt werden können. Wir freuen uns\, wenn erneut viele Interessierte mit uns aufbrechen. \nAbfahrt wo: Rathaus in Isen (mit E-Omnibus)\nBitte rechtzeitig um 12:30 Uhr vor Ort sein. \nAnmeldung an: info@isental-energie.de
URL:https://isental-energie.de/event/exkursion-zum-windpark-kammerberg/
LOCATION:Windpark Kammerberg
CATEGORIES:Infofahrt
END:VEVENT
BEGIN:VEVENT
DTSTART;TZID=Europe/Berlin:20251023T193000
DTEND;TZID=Europe/Berlin:20251023T210000
DTSTAMP:20260422T004300
CREATED:20251003T172329Z
LAST-MODIFIED:20251003T172329Z
UID:1713-1761247800-1761253200@isental-energie.de
SUMMARY:Treffen der Aktiven
DESCRIPTION:Nach einer langen Sommerpause wollen wir uns wieder mal zusammensetzen und uns zu den aktuellen Entwicklungen in unseren vielen Projekten austauschen. \nDie Liste der Dinge\, die wir anpacken wollen ist lang! Wir freuen uns auf den Abend mit euch! \n  \nBist du noch kein Mitglied\, möchtest aber gerne tatkräftig die Energiewende in unserer Region unterstützen? \nDann komm vorbei und lerne uns kennen. Hier geht’s zum Mitgliedsantrag.
URL:https://isental-energie.de/event/treffen-der-aktiven/
LOCATION:Rathaus Isen\, Münchener Str. 12\, Isen\, 84424\, Germany
CATEGORIES:Vereinsveranstaltung für Mitglieder
END:VEVENT
BEGIN:VEVENT
DTSTART;TZID=Europe/Berlin:20250925T193000
DTEND;TZID=Europe/Berlin:20250925T210000
DTSTAMP:20260422T004300
CREATED:20250726T124714Z
LAST-MODIFIED:20250828T192020Z
UID:1677-1758828600-1758834000@isental-energie.de
SUMMARY:Energiemanagement im Privathaushalt
DESCRIPTION:Energiemanagement im Privathaushalt\nWie gelingt die Energiewende im eigenen Haus? Welche Möglichkeiten gibt es\, Heizung\, Stromerzeugung und Mobilität intelligent zu verbinden? Antworten darauf gibt es bei diesem kostenlosen Infoabend der Bürgerenergie Isental e.V. \nDie Themen reichen von Wärmepumpe\, Photovoltaik und E-Auto bis hin zu intelligenter Haussteuerung (Smart Home) und energetischer Sanierung.\nZiel ist es\, Wege aufzuzeigen\, wie Hausbesitzerinnen und Hausbesitzer Energie effizient nutzen\, Kosten senken und gleichzeitig einen Beitrag zum Klimaschutz leisten können. \nDer Gebäudeenergieberater und Berater für Elektromobilität Mark Mühlhausen (HWK) informiert praxisnah und verständlich über aktuelle Lösungen. \nBegrenzte Plätze\, eine Anmeldung ist nicht erforderlich.
URL:https://isental-energie.de/event/energiemanagement-im-privathaushalt/
LOCATION:Wirtshaus zum Hirschbachwirt\, Tadinger Str. 6\, Forstern\, 85659\, Germany
CATEGORIES:Infoabend
END:VEVENT
BEGIN:VEVENT
DTSTART;TZID=Europe/Berlin:20250807T100000
DTEND;TZID=Europe/Berlin:20250807T180000
DTSTAMP:20260422T004300
CREATED:20250713T104453Z
LAST-MODIFIED:20250713T104453Z
UID:1637-1754560800-1754589600@isental-energie.de
SUMMARY:Ferienprogramm Isen - Wir bauen ein Fahrzeug mit Elektroantrieb
DESCRIPTION:Wir wollen Kinder und Jugendliche an Erneuerbare Energien\, ein bisschen Elektrotechnik und Co. heranführen. Damit das auch Spaß macht\, werden wir ein Fahrzeug mit Elektroantrieb bauen. Dazu werden wir alle Materialen bereitstellen (Motor\, Regelungselektronik\, Akkus usw.). \nDie Kinder/Jugendlichen sollen dann spielerisch den Bau selbst (gemeinsam mit uns) umsetzen. Dabei müssen wir vieles ausprobieren und testen. Wo kommt der Motor hin\, wie machen wir die Übersetzung\, wo platzieren wir die Akkus usw. \nAm Ende steht (hoffentlich :-)) der Spaß im Mittelpunkt und wir können das Fahrzeug dann ausführlich Probe fahren. \nBitte möglichst Pünktlich kommen.\nWenn es den gesamten Tag 07.08.2025 regnen sollte verschieben wir um einen Tag auf den 08. August 2025. \nAnmeldungen bitte ausschließlich über das Ferienprogramm des Marktes Isen (Website siehe unten).
URL:https://isental-energie.de/event/ferienprogramm-isen-wir-bauen-ein-fahrzeug-mit-elektroantrieb/
LOCATION:Bürgerenergie-Isental e.V.\, Schützenweg 7\, Isen\, 84424
END:VEVENT
BEGIN:VEVENT
DTSTART;TZID=Europe/Berlin:20250724T190000
DTEND;TZID=Europe/Berlin:20250724T203000
DTSTAMP:20260422T004300
CREATED:20250504T090158Z
LAST-MODIFIED:20250711T133633Z
UID:1516-1753383600-1753389000@isental-energie.de
SUMMARY:Mitgliederversammlung mit Wahlen
DESCRIPTION:Schon wieder ist ein weiteres ereignesreiches Jahr um und wir laden alle Vereinsmitglieder zur jährlichen Mitgliederversammling ein. \nAgenda: \n\nBegrüßung\nFeststellung der Beschlussfähigkeit\nBestimmung des Protokollführers\nBekanntgabe der Tagesordnungspunkte\nBericht des Vorstands\nBericht des Kassenwarts\nEntlastung von Vorstand und Kassenwart\nNeuwahlen 1. und 2. Vorstand\nErnennung unterstützende Funktionsträger\n\nKassenwart\nMitgliederverwaltung\n\n\nAktueller Statusbericht der BEG e.G.\nSonstiges\, Wünsche und Anträge\n\nÄnderungsvorschläge zur Agenda sind schriftlich bis spätestens eine Woche vor der Veranstaltung beim Vorstand einzureichen. \n 
URL:https://isental-energie.de/event/save-the-date-mitgliederversammlung-mit-wahlen/
LOCATION:Gasthof Klement\, Münchner Straße 3\, Isen\, 84424
CATEGORIES:Vereinsveranstaltung für Mitglieder
ATTACH;FMTTYPE=image/png:https://isental-energie.de/wp-content/uploads/2023/07/Logo-quadrat.png
END:VEVENT
BEGIN:VEVENT
DTSTART;TZID=Europe/Berlin:20250712T150000
DTEND;TZID=Europe/Berlin:20250712T220000
DTSTAMP:20260422T004300
CREATED:20250504T085602Z
LAST-MODIFIED:20250711T134728Z
UID:1512-1752332400-1752357600@isental-energie.de
SUMMARY:Sommerfest der Bürger Energie Isental
DESCRIPTION:Gemeinschaft erzeugt Energie und Sommer-Vibes. \nWir feiern gemeinsam unser Engagement für die Energiewende! Euch erwarten einige Highlights: \n\nWolfis Pizza Go – frisch zubereitet\nKaffee und Waffeln – von den Rotariern\nEis\nGetränke für alle\nFeuerschale & Musik zum gemütlichen Ausklang\n\nFür die Kinder gibt es außerdem: \n\nSeifen gießen (16-18 Uhr)\nHüpfburg & Spielplatz\n\nDer Erlös des Fests geht an den Waldkindergarten St. Wolfgang. \nDas Fest findet bei jedem Wetter statt!
URL:https://isental-energie.de/event/save-the-date-sommerfest-der-buerger-energie-isental/
LOCATION:Freizeitheim Isen\, Dorfener Str. 11\, Isen\, 84424
CATEGORIES:Vereinsveranstaltung für Mitglieder
ATTACH;FMTTYPE=image/jpeg:https://isental-energie.de/wp-content/uploads/2025/04/Bunt-Creme-Organisch-Konfetti-Sommer-Party-Einladung.jpg
END:VEVENT
BEGIN:VEVENT
DTSTART;TZID=Europe/Berlin:20250522T193000
DTEND;TZID=Europe/Berlin:20250522T213000
DTSTAMP:20260422T004300
CREATED:20250322T173403Z
LAST-MODIFIED:20250322T174309Z
UID:1219-1747942200-1747949400@isental-energie.de
SUMMARY:Infoabend E-Mobilität und bidirektionales Laden
DESCRIPTION:Schema Bidirektionales Laden\, Foto:(c)BEI\nWir laden euch zu einem Vortrag über E-Mobilität und bidirektionales Laden ein. \nReferent Xaver Pfab\, ehemaliger BMW-Mitarbeiter und heute selbstständiger Politikberater\, zeigt auf\, wie die E-Mobilität und die Technologie des bidirektionalen Ladens als Chance für die Zukunft genutzt werden können. Der Vortrag bietet spannende Einblicke in die Möglichkeiten der Elektromobilität und deren Potenziale für die Energiewende. \nWir freuen uns auf Euch.
URL:https://isental-energie.de/event/e-mobilitaet-und-bidirektionales-laden/
LOCATION:Gasthof Klement\, Münchner Straße 3\, Isen\, 84424
CATEGORIES:Infoabend
END:VEVENT
BEGIN:VEVENT
DTSTART;TZID=Europe/Berlin:20250513T190000
DTEND;TZID=Europe/Berlin:20250513T210000
DTSTAMP:20260422T004300
CREATED:20250421T182257Z
LAST-MODIFIED:20250421T182346Z
UID:1487-1747162800-1747170000@isental-energie.de
SUMMARY:Windkraft & Naturschutz - Offene Wirtshausrunde
DESCRIPTION:Fledermäuse und Windräder\, passt das ideal zusammen?\nViele Infos von der Expertin Sabine Meyer\nFledermauszählung in Lappach\, für Interessierte im Anschluss
URL:https://isental-energie.de/event/windkraft-naturschutz-offene-wirtshausrunde/
LOCATION:Gasthof Obermaier\, Isener Str. 1\, St. Wolfgang-Lappach
END:VEVENT
BEGIN:VEVENT
DTSTART;TZID=Europe/Berlin:20250508T193000
DTEND;TZID=Europe/Berlin:20250508T213000
DTSTAMP:20260422T004300
CREATED:20250322T171758Z
LAST-MODIFIED:20250323T170405Z
UID:1201-1746732600-1746739800@isental-energie.de
SUMMARY:Infoabend Balkonkraftwerke
DESCRIPTION:Bereits 2023 herrschte bei unserer ersten Infoveranstaltung zu Balkonkraftwerken großer Andrang. Daher laden wir erneut\, diesmal zusammen mit dem Klimaforum Taufkirchen\, zu einem Infoabend über Balkonkraftwerke ein. Zimmerermeister Schorsch Wimmer erklärt\, wie Haushalte mit einem Solarmodul eigenen Strom produzieren und Kosten senken können. Außerdem gibt es Tipps zur Selbstmontage und die Möglichkeit\, sich an einer Sammelbestellung zu beteiligen. Alle Interessierten sind herzlich willkommen!
URL:https://isental-energie.de/event/infoabend-balkonkraftwerke/
LOCATION:Wasserschloß Taufkirchen/Vils\, Wasserschloss 1\, Taufkirchen (Vils)\, 84416
CATEGORIES:Infoabend
END:VEVENT
END:VCALENDAR